BEGIN:VCALENDAR
VERSION:2.0
PRODID:-//CG Kraichgau-Stromberg - ECPv6.15.20//NONSGML v1.0//EN
CALSCALE:GREGORIAN
METHOD:PUBLISH
X-WR-CALNAME:CG Kraichgau-Stromberg
X-ORIGINAL-URL:https://cg-ks.de
X-WR-CALDESC:Veranstaltungen für CG Kraichgau-Stromberg
REFRESH-INTERVAL;VALUE=DURATION:PT1H
X-Robots-Tag:noindex
X-PUBLISHED-TTL:PT1H
BEGIN:VTIMEZONE
TZID:Europe/Berlin
BEGIN:DAYLIGHT
TZOFFSETFROM:+0100
TZOFFSETTO:+0200
TZNAME:CEST
DTSTART:20250330T010000
END:DAYLIGHT
BEGIN:STANDARD
TZOFFSETFROM:+0200
TZOFFSETTO:+0100
TZNAME:CET
DTSTART:20251026T010000
END:STANDARD
BEGIN:DAYLIGHT
TZOFFSETFROM:+0100
TZOFFSETTO:+0200
TZNAME:CEST
DTSTART:20260329T010000
END:DAYLIGHT
BEGIN:STANDARD
TZOFFSETFROM:+0200
TZOFFSETTO:+0100
TZNAME:CET
DTSTART:20261025T010000
END:STANDARD
BEGIN:DAYLIGHT
TZOFFSETFROM:+0100
TZOFFSETTO:+0200
TZNAME:CEST
DTSTART:20270328T010000
END:DAYLIGHT
BEGIN:STANDARD
TZOFFSETFROM:+0200
TZOFFSETTO:+0100
TZNAME:CET
DTSTART:20271031T010000
END:STANDARD
END:VTIMEZONE
BEGIN:VEVENT
DTSTART;TZID=Europe/Berlin:20260719T103000
DTEND;TZID=Europe/Berlin:20260719T120000
DTSTAMP:20260420T142744
CREATED:20260301T192324Z
LAST-MODIFIED:20260419T140201Z
UID:10002236-1784457000-1784462400@cg-ks.de
SUMMARY:Taufgottesdienst im Naturerlebnisbad Flehingen
DESCRIPTION:Unsere Gottesdienste sind offen für jeden und modern gestaltet mit Musik und einer lebensbezogenen Predigt.Sie bieten Inspiration und Kraft für das alltägliche Leben.
URL:https://cg-ks.de/event/taufgottesdienst-im-naturerlebnisbad-flehingen
LOCATION:Eventhalle\, Naturerlebnisbad Fleihingen\, Gochsheimer Straße 101\, 75038\, Oberderdingen\, DE
CATEGORIES:Gottesdienst
END:VEVENT
END:VCALENDAR